BEGIN:VCALENDAR
VERSION:2.0
PRODID:-//Farwell House - ECPv6.15.15//NONSGML v1.0//EN
CALSCALE:GREGORIAN
METHOD:PUBLISH
X-WR-CALNAME:Farwell House
X-ORIGINAL-URL:https://farwellhouse.com
X-WR-CALDESC:Events for Farwell House
REFRESH-INTERVAL;VALUE=DURATION:PT1H
X-Robots-Tag:noindex
X-PUBLISHED-TTL:PT1H
BEGIN:VTIMEZONE
TZID:America/Chicago
BEGIN:DAYLIGHT
TZOFFSETFROM:-0600
TZOFFSETTO:-0500
TZNAME:CDT
DTSTART:20230312T080000
END:DAYLIGHT
BEGIN:STANDARD
TZOFFSETFROM:-0500
TZOFFSETTO:-0600
TZNAME:CST
DTSTART:20231105T070000
END:STANDARD
BEGIN:DAYLIGHT
TZOFFSETFROM:-0600
TZOFFSETTO:-0500
TZNAME:CDT
DTSTART:20240310T080000
END:DAYLIGHT
BEGIN:STANDARD
TZOFFSETFROM:-0500
TZOFFSETTO:-0600
TZNAME:CST
DTSTART:20241103T070000
END:STANDARD
BEGIN:DAYLIGHT
TZOFFSETFROM:-0600
TZOFFSETTO:-0500
TZNAME:CDT
DTSTART:20250309T080000
END:DAYLIGHT
BEGIN:STANDARD
TZOFFSETFROM:-0500
TZOFFSETTO:-0600
TZNAME:CST
DTSTART:20251102T070000
END:STANDARD
END:VTIMEZONE
BEGIN:VEVENT
DTSTART;TZID=America/Chicago:20241005T110000
DTEND;TZID=America/Chicago:20241005T190000
DTSTAMP:20260423T114806
CREATED:20250128T214355Z
LAST-MODIFIED:20250128T214400Z
UID:1439-1728126000-1728154800@farwellhouse.com
SUMMARY:Frederick Fall Fling and Strummin’ on the HIll
DESCRIPTION:From 11:00 am to 2:00 pm Frederick Fall Fling – This family friendly event\, co-sponsored by Frederick Township\, is centered around activities for children. Activities include two inflatable bouncers\, fall-themed arts and crafts as well as a variety of lawn games.  Hot dogs and chips will also be available. Donations are accepted but not expected. \nFrom 4:00 pm to 7:00 pm Strummin’ on the Hill – This  annual event will be a bit different than years past.  This year we will have one head line performance from the trio known as Newhouse.  Droopy Tomlinson\, Ben Clemmens\, Justin Taber and Brandon Lafary will be performing a variety of music covers from the 70’s to the 2000’s.  Everything from Fleetwood Mac to The Flaming Lips.  And another new addition to this years event will be wood-fired pizza provided by the wildly popular Plank Road Pizza Co.  Several unique pizza offerings will be available for purchase.   Bring a lawn chair or blanket and your favorite beverages and join us up on the hill for these fantastic fall events at Farwell House. \nEvents are free and open to the public.
URL:https://farwellhouse.com/event/frederick-fall-fling-and-strummin-on-the-hill/
LOCATION:Farwell House\, 6925 Hill Ln\, Frederick\, IL\, 62639\, United States
END:VEVENT
END:VCALENDAR